BEGIN:VCALENDAR
VERSION:2.0
PRODID:-//Squarespace Inc/Squarespace 6//v6//EN
BEGIN:VEVENT
UID:5db89ebf03a88e02c2fd2228@squarespace.com
DTSTAMP:20191117T200129Z
DTSTART:20191104T203000Z
DTEND:20191202T030000Z
SUMMARY:PUBLIC NOTICE OF TENDER OF ABANDONED LAND - WAITOMO DISTRICT
END:VEVENT
END:VCALENDAR
