BEGIN:VCALENDAR
VERSION:2.0
PRODID:-//Squarespace Inc/Squarespace 6//v6//EN
BEGIN:VEVENT
UID:5ce36997ccd1380001488cde@squarespace.com
DTSTAMP:20190917T014844Z
DTSTART:20190805T030000Z
DTEND:20190917T040000Z
SUMMARY:Currently we have no Abandoned Land or Ratings Sale listings
END:VEVENT
END:VCALENDAR
